BEGIN:VCALENDAR
VERSION:2.0
PRODID:-//MNM.lu - ECPv6.10.0//NONSGML v1.0//EN
CALSCALE:GREGORIAN
METHOD:PUBLISH
X-ORIGINAL-URL:https://mnm.lu
X-WR-CALDESC:Évènements pour MNM.lu
REFRESH-INTERVAL;VALUE=DURATION:PT1H
X-Robots-Tag:noindex
X-PUBLISHED-TTL:PT1H
BEGIN:VTIMEZONE
TZID:Europe/Paris
BEGIN:DAYLIGHT
TZOFFSETFROM:+0100
TZOFFSETTO:+0200
TZNAME:CEST
DTSTART:20260329T010000
END:DAYLIGHT
BEGIN:STANDARD
TZOFFSETFROM:+0200
TZOFFSETTO:+0100
TZNAME:CET
DTSTART:20261025T010000
END:STANDARD
END:VTIMEZONE
BEGIN:VEVENT
DTSTART;TZID=Europe/Paris:20260424T133000
DTEND;TZID=Europe/Paris:20260424T173000
DTSTAMP:20260424T113237
CREATED:20251202T143141Z
LAST-MODIFIED:20251202T144441Z
UID:10008504-1777037400-1777051800@mnm.lu
SUMMARY:Visite guidée Mine & Train (sur réservation)
DESCRIPTION:Suivez le guide dans les anciennes galeries de la mine Walert à plus de 80m sous terre. Voyez les machines minières et écoutez les anecdotes sur plus de 100 ans d’extraction du minerai de fer. La langue dépend de la majorité des visiteurs présents (Audioguides disponibles en allemand\, français\, anglais et néerlandais). Prix : 12€ pour adultes\, 8€ pour étudiants et 6€ pour étudiants. Départs : 14h15\, 15h15 et 16h15 Réservation et billets : MNM Rumelange | Visite guidée mine + train (regiondo.fr)
URL:https://mnm.lu/event/visite-guidee-mine-train-sur-reservation-3-2/2026-04-24/
LOCATION:Musée National des Mines\, Rue de la Bruyère\, Rumelange\, L-3714\, Luxembourg
CATEGORIES:ouverture,reservation,visite guidee
ORGANIZER;CN="Mus%C3%A9e National des Mines de Fer Luxembourgeoises":MAILTO:info@mnm.lu
END:VEVENT
BEGIN:VEVENT
DTSTART;TZID=Europe/Paris:20260425T133000
DTEND;TZID=Europe/Paris:20260425T173000
DTSTAMP:20260424T113237
CREATED:20251202T143141Z
LAST-MODIFIED:20251202T144441Z
UID:10008505-1777123800-1777138200@mnm.lu
SUMMARY:Visite guidée Mine & Train (sur réservation)
DESCRIPTION:Suivez le guide dans les anciennes galeries de la mine Walert à plus de 80m sous terre. Voyez les machines minières et écoutez les anecdotes sur plus de 100 ans d’extraction du minerai de fer. La langue dépend de la majorité des visiteurs présents (Audioguides disponibles en allemand\, français\, anglais et néerlandais). Prix : 12€ pour adultes\, 8€ pour étudiants et 6€ pour étudiants. Départs : 14h15\, 15h15 et 16h15 Réservation et billets : MNM Rumelange | Visite guidée mine + train (regiondo.fr)
URL:https://mnm.lu/event/visite-guidee-mine-train-sur-reservation-3-2/2026-04-25/
LOCATION:Musée National des Mines\, Rue de la Bruyère\, Rumelange\, L-3714\, Luxembourg
CATEGORIES:ouverture,reservation,visite guidee
ORGANIZER;CN="Mus%C3%A9e National des Mines de Fer Luxembourgeoises":MAILTO:info@mnm.lu
END:VEVENT
BEGIN:VEVENT
DTSTART;TZID=Europe/Paris:20260426T133000
DTEND;TZID=Europe/Paris:20260426T163000
DTSTAMP:20260424T113237
CREATED:20250108T094812Z
LAST-MODIFIED:20251209T144620Z
UID:10009331-1777210200-1777221000@mnm.lu
SUMMARY:Visite Spéciale "Lost Places" dans la mine
DESCRIPTION:Lors d’une randonnée d’environ 2 km vous traverserez la galerie principale du Walert pour vous rendre dans la mine Langengrund. Là\, notre guide spécialisé vous explique des espaces et des galeries qui sont normalement inaccessibles au public. Prix: 15€ par participant. Réservation et tickets : https://mnm.regiondo.fr/visite-archeologie-industrielle-207529
URL:https://mnm.lu/event/visite-speciale-lost-places-dans-la-mine/2026-04-26/
LOCATION:Musée National des Mines\, Rue de la Bruyère\, Rumelange\, L-3714\, Luxembourg
CATEGORIES:reservation,visite spéciale
ORGANIZER;CN="Mus%C3%A9e National des Mines de Fer Luxembourgeoises":MAILTO:info@mnm.lu
END:VEVENT
BEGIN:VEVENT
DTSTART;TZID=Europe/Paris:20260426T133000
DTEND;TZID=Europe/Paris:20260426T173000
DTSTAMP:20260424T113237
CREATED:20251202T143141Z
LAST-MODIFIED:20251202T144441Z
UID:10008506-1777210200-1777224600@mnm.lu
SUMMARY:Visite guidée Mine & Train (sur réservation)
DESCRIPTION:Suivez le guide dans les anciennes galeries de la mine Walert à plus de 80m sous terre. Voyez les machines minières et écoutez les anecdotes sur plus de 100 ans d’extraction du minerai de fer. La langue dépend de la majorité des visiteurs présents (Audioguides disponibles en allemand\, français\, anglais et néerlandais). Prix : 12€ pour adultes\, 8€ pour étudiants et 6€ pour étudiants. Départs : 14h15\, 15h15 et 16h15 Réservation et billets : MNM Rumelange | Visite guidée mine + train (regiondo.fr)
URL:https://mnm.lu/event/visite-guidee-mine-train-sur-reservation-3-2/2026-04-26/
LOCATION:Musée National des Mines\, Rue de la Bruyère\, Rumelange\, L-3714\, Luxembourg
CATEGORIES:ouverture,reservation,visite guidee
ORGANIZER;CN="Mus%C3%A9e National des Mines de Fer Luxembourgeoises":MAILTO:info@mnm.lu
END:VEVENT
BEGIN:VEVENT
DTSTART;TZID=Europe/Paris:20260430T133000
DTEND;TZID=Europe/Paris:20260430T173000
DTSTAMP:20260424T113237
CREATED:20251202T143141Z
LAST-MODIFIED:20251202T144441Z
UID:10008507-1777555800-1777570200@mnm.lu
SUMMARY:Visite guidée Mine & Train (sur réservation)
DESCRIPTION:Suivez le guide dans les anciennes galeries de la mine Walert à plus de 80m sous terre. Voyez les machines minières et écoutez les anecdotes sur plus de 100 ans d’extraction du minerai de fer. La langue dépend de la majorité des visiteurs présents (Audioguides disponibles en allemand\, français\, anglais et néerlandais). Prix : 12€ pour adultes\, 8€ pour étudiants et 6€ pour étudiants. Départs : 14h15\, 15h15 et 16h15 Réservation et billets : MNM Rumelange | Visite guidée mine + train (regiondo.fr)
URL:https://mnm.lu/event/visite-guidee-mine-train-sur-reservation-3-2/2026-04-30/
LOCATION:Musée National des Mines\, Rue de la Bruyère\, Rumelange\, L-3714\, Luxembourg
CATEGORIES:ouverture,reservation,visite guidee
ORGANIZER;CN="Mus%C3%A9e National des Mines de Fer Luxembourgeoises":MAILTO:info@mnm.lu
END:VEVENT
END:VCALENDAR